Package: bgx Version: 1.58.0 Command: /Library/Frameworks/R.framework/Versions/Current/Resources/bin/R CMD build --keep-empty-dirs --no-resave-data bgx StartedAt: 2021-10-14 10:47:45 -0400 (Thu, 14 Oct 2021) EndedAt: 2021-10-14 10:49:24 -0400 (Thu, 14 Oct 2021) EllapsedTime: 98.5 seconds RetCode: 0 Status: OK PackageFile: bgx_1.58.0.tar.gz PackageFileSize: 1.233 MiB