Package: bgx Version: 1.58.0 Command: rm -rf bgx.buildbin-libdir && mkdir bgx.buildbin-libdir && C:\Users\biocbuild\bbs-3.13-bioc\R\bin\R.exe CMD INSTALL --merge-multiarch --build --library=bgx.buildbin-libdir bgx_1.58.0.tar.gz StartedAt: 2021-10-15 08:11:18 -0400 (Fri, 15 Oct 2021) EndedAt: 2021-10-15 08:12:50 -0400 (Fri, 15 Oct 2021) EllapsedTime: 91.9 seconds RetCode: 0 Status: OK PackageFile: bgx_1.58.0.zip PackageFileSize: 947.9 KiB