git_url: https://git.bioconductor.org/packages/bigmemoryExtras git_branch: RELEASE_3_13 git_last_commit: 3db91bc git_last_commit_date: 2021-05-19 11:54:13 -0400 (Wed, 19 May 2021) Package: bigmemoryExtras Version: 1.40.0 Maintainer: Peter M. Haverty MaintainerEmail: phaverty at gene.com