Package: bioassayR Version: 1.30.0 Command: /Library/Frameworks/R.framework/Versions/Current/Resources/bin/R CMD build --keep-empty-dirs --no-resave-data bioassayR StartedAt: 2021-10-14 10:49:12 -0400 (Thu, 14 Oct 2021) EndedAt: 2021-10-14 10:51:25 -0400 (Thu, 14 Oct 2021) EllapsedTime: 133.3 seconds RetCode: 0 Status: OK PackageFile: bioassayR_1.30.0.tar.gz PackageFileSize: 4.461 MiB