Package: bioassayR Version: 1.30.0 Command: chmod a+r bioassayR -R && C:\Users\biocbuild\bbs-3.13-bioc\R\bin\R.exe CMD build --keep-empty-dirs --no-resave-data bioassayR StartedAt: 2021-10-14 12:01:18 -0400 (Thu, 14 Oct 2021) EndedAt: 2021-10-14 12:02:54 -0400 (Thu, 14 Oct 2021) EllapsedTime: 96.4 seconds RetCode: 0 Status: OK PackageFile: bioassayR_1.30.0.tar.gz PackageFileSize: 4.353 MiB