Package: biocViews Version: 1.60.0 Command: /home/biocbuild/bbs-3.13-bioc/R/bin/R CMD build --keep-empty-dirs --no-resave-data biocViews StartedAt: 2021-10-14 06:47:50 -0400 (Thu, 14 Oct 2021) EndedAt: 2021-10-14 06:48:05 -0400 (Thu, 14 Oct 2021) EllapsedTime: 14.4 seconds RetCode: 0 Status: OK PackageFile: biocViews_1.60.0.tar.gz PackageFileSize: 282 KiB