Package: biodb Version: 1.0.4 Command: /Library/Frameworks/R.framework/Versions/Current/Resources/bin/R CMD INSTALL biodb StartedAt: 2021-10-14 09:00:40 -0400 (Thu, 14 Oct 2021) EndedAt: 2021-10-14 09:01:35 -0400 (Thu, 14 Oct 2021) EllapsedTime: 55.4 seconds RetCode: 0 Status: OK