Package: biodb Version: 1.0.4 Command: chmod a+r biodb -R && C:\Users\biocbuild\bbs-3.13-bioc\R\bin\R.exe CMD build --keep-empty-dirs --no-resave-data biodb StartedAt: 2021-10-14 12:05:26 -0400 (Thu, 14 Oct 2021) EndedAt: 2021-10-14 12:08:29 -0400 (Thu, 14 Oct 2021) EllapsedTime: 182.6 seconds RetCode: 0 Status: OK PackageFile: biodb_1.0.4.tar.gz PackageFileSize: 2.317 MiB