Package: biomaRt Version: 2.48.3 Command: /Library/Frameworks/R.framework/Versions/Current/Resources/bin/R CMD build --keep-empty-dirs --no-resave-data biomaRt StartedAt: 2021-10-14 10:52:58 -0400 (Thu, 14 Oct 2021) EndedAt: 2021-10-14 10:59:19 -0400 (Thu, 14 Oct 2021) EllapsedTime: 381.0 seconds RetCode: 0 Status: OK PackageFile: biomaRt_2.48.3.tar.gz PackageFileSize: 648.7 KiB