Package: biomaRt Version: 2.48.3 Command: /Library/Frameworks/R.framework/Versions/Current/Resources/bin/R CMD INSTALL biomaRt StartedAt: 2021-10-14 08:45:51 -0400 (Thu, 14 Oct 2021) EndedAt: 2021-10-14 08:46:46 -0400 (Thu, 14 Oct 2021) EllapsedTime: 54.8 seconds RetCode: 0 Status: OK