Package: biomaRt Version: 2.48.3 Command: /home/biocbuild/bbs-3.13-bioc/R/bin/R CMD build --keep-empty-dirs --no-resave-data biomaRt StartedAt: 2021-10-14 06:47:59 -0400 (Thu, 14 Oct 2021) EndedAt: 2021-10-14 06:50:30 -0400 (Thu, 14 Oct 2021) EllapsedTime: 151.0 seconds RetCode: 0 Status: OK PackageFile: biomaRt_2.48.3.tar.gz PackageFileSize: 648.8 KiB