Package: biomaRt Version: 2.48.3 Command: /home/biocbuild/bbs-3.13-bioc/R/bin/R CMD check --install=check:biomaRt.install-out.txt --library=/home/biocbuild/bbs-3.13-bioc/R/library --no-vignettes --timings biomaRt_2.48.3.tar.gz StartedAt: 2021-10-14 09:02:42 -0400 (Thu, 14 Oct 2021) EndedAt: 2021-10-14 09:08:27 -0400 (Thu, 14 Oct 2021) EllapsedTime: 344.8 seconds RetCode: 0 Status: OK CheckDir: biomaRt.Rcheck Warnings: 0