Package: biomaRt Version: 2.48.3 Command: chmod a+r biomaRt -R && C:\Users\biocbuild\bbs-3.13-bioc\R\bin\R.exe CMD build --keep-empty-dirs --no-resave-data biomaRt StartedAt: 2021-10-14 12:05:46 -0400 (Thu, 14 Oct 2021) EndedAt: 2021-10-14 12:11:24 -0400 (Thu, 14 Oct 2021) EllapsedTime: 338.1 seconds RetCode: 0 Status: OK PackageFile: biomaRt_2.48.3.tar.gz PackageFileSize: 649 KiB