Package: biomformat Version: 1.20.0 Command: rm -rf biomformat.buildbin-libdir && mkdir biomformat.buildbin-libdir && /Users/biocbuild/BBS/utils/build-universal.sh biomformat_1.20.0.tar.gz /Library/Frameworks/R.framework/Versions/Current/Resources/bin/R biomformat.buildbin-libdir StartedAt: 2021-10-15 01:45:01 -0400 (Fri, 15 Oct 2021) EndedAt: 2021-10-15 01:46:13 -0400 (Fri, 15 Oct 2021) EllapsedTime: 72.0 seconds RetCode: 0 Status: OK PackageFile: biomformat_1.20.0.tgz PackageFileSize: 477.2 KiB