Package: biomvRCNS Version: 1.32.0 Command: /Library/Frameworks/R.framework/Versions/Current/Resources/bin/R CMD INSTALL biomvRCNS StartedAt: 2021-10-14 10:13:09 -0400 (Thu, 14 Oct 2021) EndedAt: 2021-10-14 10:14:21 -0400 (Thu, 14 Oct 2021) EllapsedTime: 71.6 seconds RetCode: 0 Status: OK