Package: biomvRCNS Version: 1.32.0 Command: /home/biocbuild/bbs-3.13-bioc/R/bin/R CMD INSTALL biomvRCNS StartedAt: 2021-10-14 06:31:47 -0400 (Thu, 14 Oct 2021) EndedAt: 2021-10-14 06:32:34 -0400 (Thu, 14 Oct 2021) EllapsedTime: 46.9 seconds RetCode: 0 Status: OK