Package: biosigner Version: 1.20.0 Command: rm -rf biosigner.buildbin-libdir && mkdir biosigner.buildbin-libdir && /Users/biocbuild/BBS/utils/build-universal.sh biosigner_1.20.0.tar.gz /Library/Frameworks/R.framework/Versions/Current/Resources/bin/R biosigner.buildbin-libdir StartedAt: 2021-10-15 01:45:45 -0400 (Fri, 15 Oct 2021) EndedAt: 2021-10-15 01:46:55 -0400 (Fri, 15 Oct 2021) EllapsedTime: 70.2 seconds RetCode: 0 Status: OK PackageFile: biosigner_1.20.0.tgz PackageFileSize: 4.309 MiB