Package: biosigner Version: 1.20.0 Command: /home/biocbuild/bbs-3.13-bioc/R/bin/R CMD build --keep-empty-dirs --no-resave-data biosigner StartedAt: 2021-10-14 06:48:15 -0400 (Thu, 14 Oct 2021) EndedAt: 2021-10-14 06:50:18 -0400 (Thu, 14 Oct 2021) EllapsedTime: 122.8 seconds RetCode: 0 Status: OK PackageFile: biosigner_1.20.0.tar.gz PackageFileSize: 4.09 MiB