Package: biovizBase Version: 1.40.0 Command: rm -rf biovizBase.buildbin-libdir && mkdir biovizBase.buildbin-libdir && /Users/biocbuild/BBS/utils/build-universal.sh biovizBase_1.40.0.tar.gz /Library/Frameworks/R.framework/Versions/Current/Resources/bin/R biovizBase.buildbin-libdir StartedAt: 2021-10-15 01:46:07 -0400 (Fri, 15 Oct 2021) EndedAt: 2021-10-15 01:47:18 -0400 (Fri, 15 Oct 2021) EllapsedTime: 70.1 seconds RetCode: 0 Status: OK PackageFile: biovizBase_1.40.0.tgz PackageFileSize: 2.635 MiB