Package: biovizBase Version: 1.40.0 Command: /home/biocbuild/bbs-3.13-bioc/R/bin/R CMD build --keep-empty-dirs --no-resave-data biovizBase StartedAt: 2021-10-14 06:48:49 -0400 (Thu, 14 Oct 2021) EndedAt: 2021-10-14 06:49:45 -0400 (Thu, 14 Oct 2021) EllapsedTime: 55.7 seconds RetCode: 0 Status: OK PackageFile: biovizBase_1.40.0.tar.gz PackageFileSize: 2.302 MiB