Package: blima Version: 1.26.0 Command: rm -rf blima.buildbin-libdir && mkdir blima.buildbin-libdir && /Users/biocbuild/BBS/utils/build-universal.sh blima_1.26.0.tar.gz /Library/Frameworks/R.framework/Versions/Current/Resources/bin/R blima.buildbin-libdir StartedAt: 2021-10-15 01:46:39 -0400 (Fri, 15 Oct 2021) EndedAt: 2021-10-15 01:47:39 -0400 (Fri, 15 Oct 2021) EllapsedTime: 60.2 seconds RetCode: 0 Status: OK PackageFile: blima_1.26.0.tgz PackageFileSize: 405.9 KiB