Package: blima Version: 1.26.0 Command: /Library/Frameworks/R.framework/Versions/Current/Resources/bin/R CMD build --keep-empty-dirs --no-resave-data blima StartedAt: 2021-10-14 10:56:18 -0400 (Thu, 14 Oct 2021) EndedAt: 2021-10-14 11:02:13 -0400 (Thu, 14 Oct 2021) EllapsedTime: 354.9 seconds RetCode: 0 Status: OK PackageFile: blima_1.26.0.tar.gz PackageFileSize: 249.7 KiB