Package: bnem Version: 1.0.0 Command: rm -rf bnem.buildbin-libdir && mkdir bnem.buildbin-libdir && C:\Users\biocbuild\bbs-3.13-bioc\R\bin\R.exe CMD INSTALL --merge-multiarch --build --library=bnem.buildbin-libdir bnem_1.0.0.tar.gz StartedAt: 2021-10-15 08:19:43 -0400 (Fri, 15 Oct 2021) EndedAt: 2021-10-15 08:20:58 -0400 (Fri, 15 Oct 2021) EllapsedTime: 75.6 seconds RetCode: 0 Status: OK PackageFile: bnem_1.0.0.zip PackageFileSize: 1.341 MiB