Package: branchpointer Version: 1.18.0 Command: /Library/Frameworks/R.framework/Versions/Current/Resources/bin/R CMD INSTALL branchpointer StartedAt: 2021-10-14 10:19:57 -0400 (Thu, 14 Oct 2021) EndedAt: 2021-10-14 10:20:46 -0400 (Thu, 14 Oct 2021) EllapsedTime: 49.2 seconds RetCode: 0 Status: OK