Package: branchpointer Version: 1.18.0 Command: chmod a+r branchpointer -R && C:\Users\biocbuild\bbs-3.13-bioc\R\bin\R.exe CMD build --keep-empty-dirs --no-resave-data branchpointer StartedAt: 2021-10-14 12:25:33 -0400 (Thu, 14 Oct 2021) EndedAt: 2021-10-14 12:27:34 -0400 (Thu, 14 Oct 2021) EllapsedTime: 121.3 seconds RetCode: 0 Status: OK PackageFile: branchpointer_1.18.0.tar.gz PackageFileSize: 4.783 MiB