Package: bridge Version: 1.56.0 Command: /Library/Frameworks/R.framework/Versions/Current/Resources/bin/R CMD INSTALL bridge StartedAt: 2021-10-14 08:06:51 -0400 (Thu, 14 Oct 2021) EndedAt: 2021-10-14 08:07:46 -0400 (Thu, 14 Oct 2021) EllapsedTime: 55.4 seconds RetCode: 0 Status: OK