git_url: https://git.bioconductor.org/packages/bsseq git_branch: RELEASE_3_13 git_last_commit: 57084fa git_last_commit_date: 2021-05-19 11:53:03 -0400 (Wed, 19 May 2021) Package: bsseq Version: 1.28.0 Maintainer: Kasper Daniel Hansen MaintainerEmail: kasperdanielhansen at gmail.com