Package: bsseq Version: 1.28.0 Command: /Library/Frameworks/R.framework/Versions/Current/Resources/bin/R CMD check --install=check:bsseq.install-out.txt --library=/Library/Frameworks/R.framework/Versions/Current/Resources/library --no-vignettes --timings bsseq_1.28.0.tar.gz StartedAt: 2021-10-14 16:57:59 -0400 (Thu, 14 Oct 2021) EndedAt: 2021-10-14 17:06:35 -0400 (Thu, 14 Oct 2021) EllapsedTime: 516.7 seconds RetCode: 0 Status: OK CheckDir: bsseq.Rcheck Warnings: 0