Package: bsseq Version: 1.28.0 Command: /home/biocbuild/bbs-3.13-bioc/R/bin/R CMD check --install=check:bsseq.install-out.txt --library=/home/biocbuild/bbs-3.13-bioc/R/library --no-vignettes --timings bsseq_1.28.0.tar.gz StartedAt: 2021-10-14 09:06:15 -0400 (Thu, 14 Oct 2021) EndedAt: 2021-10-14 09:12:41 -0400 (Thu, 14 Oct 2021) EllapsedTime: 385.6 seconds RetCode: 0 Status: OK CheckDir: bsseq.Rcheck Warnings: 0