Package: bumphunter Version: 1.34.0 Command: /Library/Frameworks/R.framework/Versions/Current/Resources/bin/R CMD build --keep-empty-dirs --no-resave-data bumphunter StartedAt: 2021-10-14 11:00:02 -0400 (Thu, 14 Oct 2021) EndedAt: 2021-10-14 11:01:03 -0400 (Thu, 14 Oct 2021) EllapsedTime: 61.4 seconds RetCode: 0 Status: OK PackageFile: bumphunter_1.34.0.tar.gz PackageFileSize: 2.395 MiB