Package: bumphunter Version: 1.34.0 Command: /Library/Frameworks/R.framework/Versions/Current/Resources/bin/R CMD check --install=check:bumphunter.install-out.txt --library=/Library/Frameworks/R.framework/Versions/Current/Resources/library --no-vignettes --timings bumphunter_1.34.0.tar.gz StartedAt: 2021-10-14 16:58:58 -0400 (Thu, 14 Oct 2021) EndedAt: 2021-10-14 17:06:48 -0400 (Thu, 14 Oct 2021) EllapsedTime: 469.8 seconds RetCode: 1 Status: ERROR CheckDir: bumphunter.Rcheck Warnings: NA