Package: bumphunter Version: 1.34.0 Command: /home/biocbuild/bbs-3.13-bioc/R/bin/R CMD build --keep-empty-dirs --no-resave-data bumphunter StartedAt: 2021-10-14 06:50:58 -0400 (Thu, 14 Oct 2021) EndedAt: 2021-10-14 06:51:50 -0400 (Thu, 14 Oct 2021) EllapsedTime: 51.3 seconds RetCode: 0 Status: OK PackageFile: bumphunter_1.34.0.tar.gz PackageFileSize: 2.373 MiB