Package: bumphunter Version: 1.34.0 Command: chmod a+r bumphunter -R && C:\Users\biocbuild\bbs-3.13-bioc\R\bin\R.exe CMD build --keep-empty-dirs --no-resave-data bumphunter StartedAt: 2021-10-14 12:27:51 -0400 (Thu, 14 Oct 2021) EndedAt: 2021-10-14 12:29:15 -0400 (Thu, 14 Oct 2021) EllapsedTime: 83.6 seconds RetCode: 0 Status: OK PackageFile: bumphunter_1.34.0.tar.gz PackageFileSize: 2.374 MiB