Package: cBioPortalData Version: 2.4.10 Command: /Library/Frameworks/R.framework/Versions/Current/Resources/bin/R CMD check --install=check:cBioPortalData.install-out.txt --library=/Library/Frameworks/R.framework/Versions/Current/Resources/library --no-vignettes --timings cBioPortalData_2.4.10.tar.gz StartedAt: 2021-10-14 17:06:53 -0400 (Thu, 14 Oct 2021) EndedAt: 2021-10-14 17:13:29 -0400 (Thu, 14 Oct 2021) EllapsedTime: 395.1 seconds RetCode: 0 Status: WARNINGS CheckDir: cBioPortalData.Rcheck Warnings: 1