Package: cBioPortalData Version: 2.4.10 Command: /Library/Frameworks/R.framework/Versions/Current/Resources/bin/R CMD INSTALL cBioPortalData StartedAt: 2021-10-14 10:02:10 -0400 (Thu, 14 Oct 2021) EndedAt: 2021-10-14 10:02:57 -0400 (Thu, 14 Oct 2021) EllapsedTime: 46.9 seconds RetCode: 0 Status: OK