Package: caOmicsV Version: 1.22.0 Command: /Library/Frameworks/R.framework/Versions/Current/Resources/bin/R CMD check --install=check:caOmicsV.install-out.txt --library=/Library/Frameworks/R.framework/Versions/Current/Resources/library --no-vignettes --timings caOmicsV_1.22.0.tar.gz StartedAt: 2021-10-14 17:04:13 -0400 (Thu, 14 Oct 2021) EndedAt: 2021-10-14 17:06:17 -0400 (Thu, 14 Oct 2021) EllapsedTime: 124.0 seconds RetCode: 0 Status: WARNINGS CheckDir: caOmicsV.Rcheck Warnings: 1