Package: caOmicsV Version: 1.22.0 Command: /home/biocbuild/bbs-3.13-bioc/R/bin/R CMD check --install=check:caOmicsV.install-out.txt --library=/home/biocbuild/bbs-3.13-bioc/R/library --no-vignettes --timings caOmicsV_1.22.0.tar.gz StartedAt: 2021-10-14 09:08:38 -0400 (Thu, 14 Oct 2021) EndedAt: 2021-10-14 09:10:10 -0400 (Thu, 14 Oct 2021) EllapsedTime: 91.8 seconds RetCode: 0 Status: WARNINGS CheckDir: caOmicsV.Rcheck Warnings: 1