Package: caOmicsV Version: 1.22.0 Command: chmod a+r caOmicsV -R && C:\Users\biocbuild\bbs-3.13-bioc\R\bin\R.exe CMD build --keep-empty-dirs --no-resave-data caOmicsV StartedAt: 2021-10-14 12:31:16 -0400 (Thu, 14 Oct 2021) EndedAt: 2021-10-14 12:32:07 -0400 (Thu, 14 Oct 2021) EllapsedTime: 51.3 seconds RetCode: 0 Status: OK PackageFile: caOmicsV_1.22.0.tar.gz PackageFileSize: 2.632 MiB