Package: caOmicsV Version: 1.22.0 Command: C:\Users\biocbuild\bbs-3.13-bioc\R\bin\R.exe CMD check --force-multiarch --install=check:caOmicsV.install-out.txt --library=C:\Users\biocbuild\bbs-3.13-bioc\R\library --no-vignettes --timings caOmicsV_1.22.0.tar.gz StartedAt: 2021-10-14 20:37:10 -0400 (Thu, 14 Oct 2021) EndedAt: 2021-10-14 20:40:59 -0400 (Thu, 14 Oct 2021) EllapsedTime: 228.2 seconds RetCode: 0 Status: WARNINGS CheckDir: caOmicsV.Rcheck Warnings: 1