Package: calm Version: 1.6.0 Command: rm -rf calm.buildbin-libdir && mkdir calm.buildbin-libdir && C:\Users\biocbuild\bbs-3.13-bioc\R\bin\R.exe CMD INSTALL --merge-multiarch --build --library=calm.buildbin-libdir calm_1.6.0.tar.gz StartedAt: 2021-10-15 08:23:30 -0400 (Fri, 15 Oct 2021) EndedAt: 2021-10-15 08:25:06 -0400 (Fri, 15 Oct 2021) EllapsedTime: 96.0 seconds RetCode: 0 Status: OK PackageFile: calm_1.6.0.zip PackageFileSize: 428.9 KiB