Package: ccmap Version: 1.18.0 Command: rm -rf ccmap.buildbin-libdir && mkdir ccmap.buildbin-libdir && C:\Users\biocbuild\bbs-3.13-bioc\R\bin\R.exe CMD INSTALL --merge-multiarch --build --library=ccmap.buildbin-libdir ccmap_1.18.0.tar.gz StartedAt: 2021-10-15 08:26:14 -0400 (Fri, 15 Oct 2021) EndedAt: 2021-10-15 08:27:38 -0400 (Fri, 15 Oct 2021) EllapsedTime: 83.8 seconds RetCode: 0 Status: OK PackageFile: ccmap_1.18.0.zip PackageFileSize: 432.3 KiB