Package: cellHTS2 Version: 2.56.0 Command: rm -rf cellHTS2.buildbin-libdir && mkdir cellHTS2.buildbin-libdir && /Users/biocbuild/BBS/utils/build-universal.sh cellHTS2_2.56.0.tar.gz /Library/Frameworks/R.framework/Versions/Current/Resources/bin/R cellHTS2.buildbin-libdir StartedAt: 2021-10-15 01:51:57 -0400 (Fri, 15 Oct 2021) EndedAt: 2021-10-15 01:53:07 -0400 (Fri, 15 Oct 2021) EllapsedTime: 70.4 seconds RetCode: 0 Status: OK PackageFile: cellHTS2_2.56.0.tgz PackageFileSize: 4.075 MiB