Package: cellHTS2 Version: 2.56.0 Command: /Library/Frameworks/R.framework/Versions/Current/Resources/bin/R CMD check --install=check:cellHTS2.install-out.txt --library=/Library/Frameworks/R.framework/Versions/Current/Resources/library --no-vignettes --timings cellHTS2_2.56.0.tar.gz StartedAt: 2021-10-14 17:10:25 -0400 (Thu, 14 Oct 2021) EndedAt: 2021-10-14 17:15:45 -0400 (Thu, 14 Oct 2021) EllapsedTime: 320.2 seconds RetCode: 0 Status: OK CheckDir: cellHTS2.Rcheck Warnings: 0