Package: cellHTS2 Version: 2.56.0 Command: /home/biocbuild/bbs-3.13-bioc/R/bin/R CMD build --keep-empty-dirs --no-resave-data cellHTS2 StartedAt: 2021-10-14 06:53:18 -0400 (Thu, 14 Oct 2021) EndedAt: 2021-10-14 06:55:57 -0400 (Thu, 14 Oct 2021) EllapsedTime: 159.4 seconds RetCode: 0 Status: OK PackageFile: cellHTS2_2.56.0.tar.gz PackageFileSize: 2.98 MiB