Package: cellHTS2 Version: 2.56.0 Command: /home/biocbuild/bbs-3.13-bioc/R/bin/R CMD check --install=check:cellHTS2.install-out.txt --library=/home/biocbuild/bbs-3.13-bioc/R/library --no-vignettes --timings cellHTS2_2.56.0.tar.gz StartedAt: 2021-10-14 09:10:15 -0400 (Thu, 14 Oct 2021) EndedAt: 2021-10-14 09:13:49 -0400 (Thu, 14 Oct 2021) EllapsedTime: 213.4 seconds RetCode: 0 Status: OK CheckDir: cellHTS2.Rcheck Warnings: 0