Package: cellTree Version: 1.22.0 Command: /Library/Frameworks/R.framework/Versions/Current/Resources/bin/R CMD build --keep-empty-dirs --no-resave-data cellTree StartedAt: 2021-10-14 11:07:24 -0400 (Thu, 14 Oct 2021) EndedAt: 2021-10-14 11:09:02 -0400 (Thu, 14 Oct 2021) EllapsedTime: 97.4 seconds RetCode: 0 Status: OK PackageFile: cellTree_1.22.0.tar.gz PackageFileSize: 1.087 MiB