Package: cellTree Version: 1.22.0 Command: /Library/Frameworks/R.framework/Versions/Current/Resources/bin/R CMD check --install=check:cellTree.install-out.txt --library=/Library/Frameworks/R.framework/Versions/Current/Resources/library --no-vignettes --timings cellTree_1.22.0.tar.gz StartedAt: 2021-10-14 17:12:45 -0400 (Thu, 14 Oct 2021) EndedAt: 2021-10-14 17:37:34 -0400 (Thu, 14 Oct 2021) EllapsedTime: 1489.0 seconds RetCode: 0 Status: OK CheckDir: cellTree.Rcheck Warnings: 0