Package: cellTree Version: 1.22.0 Command: /home/biocbuild/bbs-3.13-bioc/R/bin/R CMD build --keep-empty-dirs --no-resave-data cellTree StartedAt: 2021-10-14 06:54:06 -0400 (Thu, 14 Oct 2021) EndedAt: 2021-10-14 06:55:15 -0400 (Thu, 14 Oct 2021) EllapsedTime: 69.0 seconds RetCode: 0 Status: OK PackageFile: cellTree_1.22.0.tar.gz PackageFileSize: 1.091 MiB