Package: cellTree Version: 1.22.0 Command: chmod a+r cellTree -R && C:\Users\biocbuild\bbs-3.13-bioc\R\bin\R.exe CMD build --keep-empty-dirs --no-resave-data cellTree StartedAt: 2021-10-14 12:38:56 -0400 (Thu, 14 Oct 2021) EndedAt: 2021-10-14 12:41:02 -0400 (Thu, 14 Oct 2021) EllapsedTime: 126.2 seconds RetCode: 0 Status: OK PackageFile: cellTree_1.22.0.tar.gz PackageFileSize: 892 KiB