Package: cellmigRation Version: 1.0.0 Command: /Library/Frameworks/R.framework/Versions/Current/Resources/bin/R CMD build --keep-empty-dirs --no-resave-data cellmigRation StartedAt: 2021-10-14 11:06:17 -0400 (Thu, 14 Oct 2021) EndedAt: 2021-10-14 11:10:22 -0400 (Thu, 14 Oct 2021) EllapsedTime: 245.2 seconds RetCode: 0 Status: OK PackageFile: cellmigRation_1.0.0.tar.gz PackageFileSize: 1.089 MiB